BEGIN:VCALENDAR
VERSION:2.0
PRODID:-//wp-events-plugin.com//7.2.2.1//EN
TZID:America/Los_Angeles
X-WR-TIMEZONE:America/Los_Angeles
BEGIN:VEVENT
UID:597@tehamatogether.org
DTSTART;TZID=America/Los_Angeles:20260108T080000
DTEND;TZID=America/Los_Angeles:20260108T093000
DTSTAMP:20250609T125249Z
URL:https://tehamatogether.org/events/food-share-3/
SUMMARY:Food Share
DESCRIPTION:Tehama Together\n\n345 Hickory Street\, Red Bluff\, CA 96080
END:VEVENT
BEGIN:VTIMEZONE
TZID:America/Los_Angeles
X-LIC-LOCATION:America/Los_Angeles
BEGIN:STANDARD
DTSTART:20251102T010000
TZOFFSETFROM:-0700
TZOFFSETTO:-0800
TZNAME:PST
END:STANDARD
END:VTIMEZONE
END:VCALENDAR